BEGIN:VCALENDAR
VERSION:2.0
PRODID:-//Lewis Ben Smith - ECPv6.15.20//NONSGML v1.0//EN
CALSCALE:GREGORIAN
METHOD:PUBLISH
X-WR-CALNAME:Lewis Ben Smith
X-ORIGINAL-URL:https://lewisbensmith.com
X-WR-CALDESC:Events for Lewis Ben Smith
REFRESH-INTERVAL;VALUE=DURATION:PT1H
X-Robots-Tag:noindex
X-PUBLISHED-TTL:PT1H
BEGIN:VTIMEZONE
TZID:UTC
BEGIN:STANDARD
TZOFFSETFROM:+0000
TZOFFSETTO:+0000
TZNAME:UTC
DTSTART:20170101T000000
END:STANDARD
END:VTIMEZONE
BEGIN:VEVENT
DTSTART;TZID=UTC:20210814T130000
DTEND;TZID=UTC:20210814T170000
DTSTAMP:20260421T213357
CREATED:20210727T161439Z
LAST-MODIFIED:20210727T161439Z
UID:841-1628946000-1628960400@lewisbensmith.com
SUMMARY:BOOK SIGNING - August 14: Half Price Books\, North Lamar St. Austin\, TX 1-5 PM
DESCRIPTION:PRESIDENT HAMILTON is coming to Austin!  Lewis will be at the Half Price Books store on North Lamar on Saturday\, August 14 from 1 – 5 PM\, signing purchased copies of PRESIDENT HAMILTON.  Come on by and get your signed copy of this remarkable alternative history of America!
URL:https://lewisbensmith.com/event/book-signing-august-14-half-price-books-north-lamar-st-austin-tx-1-5-pm/
LOCATION:Half Price Books N. Lamar Austin\, 5555 N. Lamar Blvd\, Austin\, TX\, 78751\, United States
CATEGORIES:Appearance
END:VEVENT
BEGIN:VEVENT
DTSTART;TZID=UTC:20210809T080000
DTEND;TZID=UTC:20210809T170000
DTSTAMP:20260421T213357
CREATED:20210809T181324Z
LAST-MODIFIED:20210809T181324Z
UID:852-1628496000-1628528400@lewisbensmith.com
SUMMARY:Saturday\, August 21: Book Signing\, Half Price Books\, N. Sherry Lane\, Ft. Worth TX  12 - 2 PM
DESCRIPTION:Come on down and meet Lewis and purchase a signed copy of his alternative history epic\, PRESIDENT HAMILTON\, Saturday from noon till 2 PM.
URL:https://lewisbensmith.com/event/saturday-august-21-book-signing-half-price-books-n-sherry-lane-ft-worth-tx-12-2-pm/
LOCATION:TX
CATEGORIES:Appearance
END:VEVENT
BEGIN:VEVENT
DTSTART;TZID=UTC:20210731T130000
DTEND;TZID=UTC:20210731T170000
DTSTAMP:20260421T213357
CREATED:20210607T194116Z
LAST-MODIFIED:20210607T194116Z
UID:819-1627736400-1627750800@lewisbensmith.com
SUMMARY:BOOK SIGNING EVENT - July 31\, 2021  1- 5 PM Half Price Books  Firewheel Mall Garland\, TX
DESCRIPTION:Come meet Lewis and purchase a copy of his exciting new novel of alternative history\, PRESIDENT HAMILTON! \nHe will be signing purchased copies all afternoon!
URL:https://lewisbensmith.com/event/book-signing-event-july-31-2021-1-5-pm-half-price-books-firewheel-mall-garland-tx/
LOCATION:Half Price Books Garland\, TX Firewheel Mall\, Firewheel Mall\, Garland\, TX\, 75040\, United States
CATEGORIES:Appearance
END:VEVENT
BEGIN:VEVENT
DTSTART;TZID=UTC:20210724T130000
DTEND;TZID=UTC:20210724T170000
DTSTAMP:20260421T213357
CREATED:20210607T193823Z
LAST-MODIFIED:20210607T193823Z
UID:817-1627131600-1627146000@lewisbensmith.com
SUMMARY:BOOK LAUNCH PARTY - July 24\, 2021  Half Price Books Rockwall\, TX
DESCRIPTION:Come join Lewis as he launches his exciting new novel of alternative history\, PRESIDENT HAMILTON!\nHe will be signing purchased copies of his newest book all afternoon.
URL:https://lewisbensmith.com/event/book-launch-party-july-24-2021-half-price-books-rockwall-tx/
LOCATION:Half Price Books\, Rockwall\, TX\, 959 E. I-30\, Rockwall\, TX\, 75087\, United States
CATEGORIES:Appearance
END:VEVENT
BEGIN:VEVENT
DTSTART;TZID=UTC:20210607T080000
DTEND;TZID=UTC:20210607T170000
DTSTAMP:20260421T213357
CREATED:20210607T200314Z
LAST-MODIFIED:20210607T200314Z
UID:827-1623052800-1623085200@lewisbensmith.com
SUMMARY:BOOK SIGNING - Sept. 11\, 2021  1-4 PM  Half Price Books\, McKinney TX
DESCRIPTION:Come meet Lewis and purchase a signed copy of his exciting novel of alternative history\, PRESIDENT HAMILTON! \nHe will be signing books all afternoon!
URL:https://lewisbensmith.com/event/book-signing-sept-11-2021-1-4-pm-half-price-books-mckinney-tx/
LOCATION:Half Price Books McKinney\, TX\, 3190 S. Central Expressway\, McKinney\, TX\, 75070\, United States
CATEGORIES:Appearance
END:VEVENT
BEGIN:VEVENT
DTSTART;TZID=UTC:20200328T130000
DTEND;TZID=UTC:20200328T170000
DTSTAMP:20260421T213357
CREATED:20200310T205341Z
LAST-MODIFIED:20200310T205341Z
UID:805-1585400400-1585414800@lewisbensmith.com
SUMMARY:Saturday\, March 28\, 2020   Recycled Books\, Denton TX   1 PM - 5 PM
DESCRIPTION:Lewis will be signing purchased copies of his faith-based historical novels at the Recycled Books store on the Courthouse Square in Denton\, TX from 1 till 5 PM.  Come meet your new favorite author!
URL:https://lewisbensmith.com/event/saturday-march-28-2020-recycled-books-denton-tx-1-pm-5-pm/
LOCATION:Recycled Books\, 200 N Locust St\, Denton\, TX\, 76201\, United States
CATEGORIES:Appearance
END:VEVENT
BEGIN:VEVENT
DTSTART;TZID=UTC:20190824T130000
DTEND;TZID=UTC:20190824T170000
DTSTAMP:20260421T213357
CREATED:20190724T202833Z
LAST-MODIFIED:20190724T202833Z
UID:800-1566651600-1566666000@lewisbensmith.com
SUMMARY:Saturday\, August 24\, 2019; 1 - 5 PM  Book Signing: Half Price Books McKinney\, TX
DESCRIPTION:Lewis will be at the Half Price Books store in McKinney\, TX this Saturday\, signing copies of his books from 1 till 5 PM.   Come on by and get a copy of THE TESTIMONIUM or one of his other faith-based historical novels!
URL:https://lewisbensmith.com/event/saturday-august-24-2019-1-5-pm-book-signing-half-price-books-mckinney-tx/
LOCATION:Half Price Books McKinney\, TX\, 3190 S. Central Expressway\, McKinney\, TX\, 75070\, United States
CATEGORIES:Appearance
END:VEVENT
BEGIN:VEVENT
DTSTART;TZID=UTC:20190817T110000
DTEND;TZID=UTC:20190817T150000
DTSTAMP:20260421T213357
CREATED:20190724T202458Z
LAST-MODIFIED:20190724T202458Z
UID:798-1566039600-1566054000@lewisbensmith.com
SUMMARY:Saturday\, August 17\, 2019; 11-3 PM  Book Signing: The Wind\, The Willow Book Shop in Greenville\, TX
DESCRIPTION:Lewis will be in his home town of Greenville\, TX at The Wind\, The Willow Book Shop signing copies of his novels from 11 till 3 PM this Saturday.  Come on by and get a copy of MATTHEW’S AUTOGRAPH or one of his other faith-based historic novels.
URL:https://lewisbensmith.com/event/saturday-august-17-2019-11-3-pm-book-signing-the-wind-the-willow-book-shop-in-greenville-tx/
LOCATION:The Wind\, The Willow Bookstore\, 2610 Lee Street\, Greenville\, TX\, 75401\, United States
CATEGORIES:Appearance
END:VEVENT
BEGIN:VEVENT
DTSTART;TZID=UTC:20190810T130000
DTEND;TZID=UTC:20190810T170000
DTSTAMP:20260421T213357
CREATED:20190724T202121Z
LAST-MODIFIED:20190724T202121Z
UID:795-1565442000-1565456400@lewisbensmith.com
SUMMARY:Saturday\, August 10\, 2019; 1 - 5 PM  Book Signing\, Half Price Books Arlington TX
DESCRIPTION:Lewis will be signing copies of his novels at the Arlington\, TX Half Price Books store from 1 till 5 PM.  Come on by and get a copy of THE REDEMPTION OF PONTIUS PILATE or one of his other faith-based historic novels!
URL:https://lewisbensmith.com/event/saturday-august-10-2019-1-5-pm-book-signing-half-price-books-arlington-tx/
LOCATION:Half Price Books Arlington\, TX\, 2211 S. Cooper\, Arlington\, TX\, 76013\, United States
CATEGORIES:Appearance
END:VEVENT
BEGIN:VEVENT
DTSTART;TZID=UTC:20190803T130000
DTEND;TZID=UTC:20190803T170000
DTSTAMP:20260421T213357
CREATED:20190724T201429Z
LAST-MODIFIED:20190724T201429Z
UID:793-1564837200-1564851600@lewisbensmith.com
SUMMARY:Saturday\, August 3\, 2019: 1 -5 PM  Book Signing - Recycled Books\, Denton TX
DESCRIPTION:Lewis will be signing copies of his novels from 1 till 5 at Recycled  Books on the Courthouse Square in Denton\, TX.  Come on by and get a signed copy of THE GNOSTIC LIBRARY or one of his other faith-based historical novels!
URL:https://lewisbensmith.com/event/saturday-august-3-2019-1-5-pm-book-signing-recycled-books-denton-tx/
LOCATION:Recycled Books\, 200 N Locust St\, Denton\, TX\, 76201\, United States
CATEGORIES:Appearance
END:VEVENT
BEGIN:VEVENT
DTSTART;TZID=UTC:20190727T130000
DTEND;TZID=UTC:20190727T170000
DTSTAMP:20260421T213357
CREATED:20190724T200953Z
LAST-MODIFIED:20190724T200953Z
UID:791-1564232400-1564246800@lewisbensmith.com
SUMMARY:Saturday\, July 27\, 2019; 1 - 5 PM  Book Signing Half Price Books\, Houston TX
DESCRIPTION:Lewis Ben Smith will be signing books this Saturday at the Half Price Books store in the North Oaks Mall on Cypress Parkway in Houston\, TX. Come on by and get a copy of THEOPHILUS: A TALE OF ANCIENT ROME or any of his faith-based historic novels!
URL:https://lewisbensmith.com/event/saturday-july-27-2019-1-5-pm-book-signing-half-price-books-houston-tx/
LOCATION:Half Price Books\, North Oak Mall\, 4685 Cypress Creek Parkway\, Houston\, TX\, 77069\, United States
CATEGORIES:Appearance
END:VEVENT
BEGIN:VEVENT
DTSTART;TZID=UTC:20190630T130000
DTEND;TZID=UTC:20190630T150000
DTSTAMP:20260421T213357
CREATED:20190606T195724Z
LAST-MODIFIED:20190606T195857Z
UID:783-1561899600-1561906800@lewisbensmith.com
SUMMARY:Sunday\, June 30\, 2019\, Book Signing\, 1 till 3 PM  Half Price Books Flagship Store\, Dallas\, TX
DESCRIPTION:On Sunday\, June 30\, I will be at the Half Price Books flagship store on Northwest Hwy in Dallas\, TX\, signing copies of the GNOSTIC LIBRARY and my other novels from 1 till 3 PM. Come on by and get your signed copy!
URL:https://lewisbensmith.com/event/sunday-june-30-2019-book-signing-1-till-3-pm-half-price-books-flagship-store-dallas-tx/
LOCATION:Half Price Books Flagship Store\, 5803 E. Northwest Hwy\, Dallas\, TX\, 75231\, United States
CATEGORIES:Appearance
END:VEVENT
BEGIN:VEVENT
DTSTART;TZID=UTC:20190629T130000
DTEND;TZID=UTC:20190629T170000
DTSTAMP:20260421T213357
CREATED:20190606T195040Z
LAST-MODIFIED:20190606T195145Z
UID:780-1561813200-1561827600@lewisbensmith.com
SUMMARY:Saturday\, June 29\, Book Signing  1 PM til 5 PM; Half Price Books\, Firewheel Mall\, Garland TX
DESCRIPTION:On Saturday\, June 29\, I will be at Half Price Books in Garland TX signing copies of THE GNOSTIC LIBRARY and my other novels.  Come on by\, say hello\, and get a signed copy today!
URL:https://lewisbensmith.com/event/saturday-june-29-book-signing-1-pm-til-5-pm-half-price-books-firewheel-mall-garland-tx/
LOCATION:Half Price Books Garland\, TX Firewheel Mall\, Firewheel Mall\, Garland\, TX\, 75040\, United States
CATEGORIES:Appearance
END:VEVENT
BEGIN:VEVENT
DTSTART;TZID=UTC:20190622T130000
DTEND;TZID=UTC:20190622T170000
DTSTAMP:20260421T213357
CREATED:20190606T194609Z
LAST-MODIFIED:20190606T194609Z
UID:777-1561208400-1561222800@lewisbensmith.com
SUMMARY:Saturday\, June 22\, 2019\, Book Signing  1 til 5 PM; Half Price Books\, Rockwall\, TX
DESCRIPTION:On Saturday\, June 22\, I will be at Half Price Books in Rockwall\, TX from 1 till 5 PM\, signing copies of THE GNOSTIC LIBRARY and my other great stories!  Come on by and get your signed copy!
URL:https://lewisbensmith.com/event/saturday-june-22-2019-book-signing-1-til-5-pm-half-price-books-rockwall-tx/
LOCATION:Half Price Books\, Rockwall\, TX\, 959 E. I-30\, Rockwall\, TX\, 75087\, United States
CATEGORIES:Appearance
END:VEVENT
BEGIN:VEVENT
DTSTART;TZID=UTC:20190609T130000
DTEND;TZID=UTC:20190609T170000
DTSTAMP:20260421T213357
CREATED:20190606T194235Z
LAST-MODIFIED:20190606T194722Z
UID:775-1560085200-1560099600@lewisbensmith.com
SUMMARY:Sunday\, June 9\, 1 PM till 5 PM  Book Signing Half Price Books\, N. Lamar St.\, Austin\, TX
DESCRIPTION:On Sunday\, June 9\, I will be signing books at the Half Price Books store on N. Lamar St. in Austin\, TX from 1 till 5.  Come on by and pick up a copy of THE GNOSTIC LIBRARY or one of my other great titles!
URL:https://lewisbensmith.com/event/saturday-june-9-1-pm-till-5-pm-book-signing-half-price-books-n-lamar-st-austin-tx/
LOCATION:Half Price Books N. Lamar Austin\, 5555 N. Lamar Blvd\, Austin\, TX\, 78751\, United States
CATEGORIES:Appearance
END:VEVENT
BEGIN:VEVENT
DTSTART;TZID=UTC:20190608T090000
DTEND;TZID=UTC:20190608T160000
DTSTAMP:20260421T213357
CREATED:20190606T193842Z
LAST-MODIFIED:20190606T193842Z
UID:771-1559984400-1560009600@lewisbensmith.com
SUMMARY:Saturday\, June 8\, Mayborn Convention Center\, Temple\, TX\, 9 AM till 4 PM
DESCRIPTION:On Saturday\, June 8\, I will be set up at the Genuine Indian Relic Show in Temple\, TX at the Mayborn Convention Center from 9 till 4 PM.   I will have copies of all five of my novels\, plus three tables of artifacts from my Indian relic collection!  Come on by\, get a signed book\, and see some incredible artifacts and fossils on display! \n 
URL:https://lewisbensmith.com/event/saturday-june-8-mayborn-convention-center-temple-tx-9-am-till-4-pm/
LOCATION:Mayborn Convention Center\, I-35 N\, Temple\, TX\, 76501\, United States
CATEGORIES:Appearance
END:VEVENT
BEGIN:VEVENT
DTSTART;TZID=UTC:20190323T130000
DTEND;TZID=UTC:20190323T170000
DTSTAMP:20260421T213357
CREATED:20190130T004556Z
LAST-MODIFIED:20190130T004556Z
UID:705-1553346000-1553360400@lewisbensmith.com
SUMMARY:Saturday\, March 23: Book Signing; Half Price Books\, Firewheel Mall\, Garland TX 1 PM till 5 PM
DESCRIPTION:
URL:https://lewisbensmith.com/event/saturday-march-23-book-signing-half-price-books-firewheel-mall-garland-tx-1-pm-till-5-pm/
LOCATION:Half Price Books Garland\, TX Firewheel Mall\, Firewheel Mall\, Garland\, TX\, 75040\, United States
CATEGORIES:Appearance
END:VEVENT
BEGIN:VEVENT
DTSTART;TZID=UTC:20190309T130000
DTEND;TZID=UTC:20190309T170000
DTSTAMP:20260421T213357
CREATED:20190130T004230Z
LAST-MODIFIED:20190130T004230Z
UID:690-1552136400-1552150800@lewisbensmith.com
SUMMARY:Saturday\, March 9: Book Signing; Half Price Books\, Watauga\, TX 1 PM till 5 PM
DESCRIPTION:
URL:https://lewisbensmith.com/event/saturday-march-9-book-signing-half-price-books-watauga-tx-1-pm-till-5-pm/
LOCATION:Half Price Books Watauga TX\, 7620 Denton Hwy\, Watauga\, TX\, 76148\, United States
CATEGORIES:Appearance
END:VEVENT
BEGIN:VEVENT
DTSTART;TZID=UTC:20190302T130000
DTEND;TZID=UTC:20190302T180000
DTSTAMP:20260421T213357
CREATED:20190130T004024Z
LAST-MODIFIED:20190130T004024Z
UID:676-1551531600-1551549600@lewisbensmith.com
SUMMARY:Saturday\, March 2: Book Signing; Half Price Books\, Tyler\, TX\, 1 PM till 6 PM
DESCRIPTION:
URL:https://lewisbensmith.com/event/saturday-march-2-book-signing-half-price-books-tyler-tx-1-pm-till-6-pm/
LOCATION:Half Price Books Tyler\, TX\, 8966 S. Broadway Ave.\, Tyler\, TX\, 75703\, United States
CATEGORIES:Appearance
END:VEVENT
BEGIN:VEVENT
DTSTART;TZID=UTC:20190223T130000
DTEND;TZID=UTC:20190223T160000
DTSTAMP:20260421T213357
CREATED:20190109T033903Z
LAST-MODIFIED:20190109T034404Z
UID:493-1550926800-1550937600@lewisbensmith.com
SUMMARY:Saturday\, February 23\, 2019   Book Signing   1 - 4 PM   Half Price Books   South Hulen   Ft. Worth\, TX
DESCRIPTION:
URL:https://lewisbensmith.com/event/23-feb-2019-book-signing-1-4-pm-half-price-books-south-hulen-ft-worth-tx/
LOCATION:Half Price Books Ft Worth TX\, 5417 S. Hulen St.\, Ft. Worth\, TX\, 76132\, United States
CATEGORIES:Appearance
END:VEVENT
BEGIN:VEVENT
DTSTART;TZID=UTC:20190216T130000
DTEND;TZID=UTC:20190216T170000
DTSTAMP:20260421T213357
CREATED:20190130T003819Z
LAST-MODIFIED:20190130T003819Z
UID:648-1550322000-1550336400@lewisbensmith.com
SUMMARY:Saturday\, Feb. 16:  Book Signing; Half Price Books\, Rockwall\, TX 1 PM till 5 PM
DESCRIPTION:
URL:https://lewisbensmith.com/event/saturday-feb-16-book-signing-half-price-books-rockwall-tx-1-pm-till-5-pm/
LOCATION:Half Price Books\, Rockwall\, TX\, 959 E. I-30\, Rockwall\, TX\, 75087\, United States
CATEGORIES:Appearance
END:VEVENT
BEGIN:VEVENT
DTSTART;TZID=UTC:20190209T130000
DTEND;TZID=UTC:20190209T160000
DTSTAMP:20260421T213357
CREATED:20190130T003034Z
LAST-MODIFIED:20190130T003123Z
UID:627-1549717200-1549728000@lewisbensmith.com
SUMMARY:Saturday\, Feb. 9  Book Signing  Half Price Books\, McKinney\, TX  1 PM till 4 PM
DESCRIPTION:
URL:https://lewisbensmith.com/event/saturday-feb-9-book-signing-half-price-books-mckinney-tx-1-pm-till-4-pm/
LOCATION:Half Price Books McKinney\, TX\, 3190 S. Central Expressway\, McKinney\, TX\, 75070\, United States
CATEGORIES:Appearance
END:VEVENT
BEGIN:VEVENT
DTSTART;TZID=UTC:20190202T130000
DTEND;TZID=UTC:20190202T170000
DTSTAMP:20260421T213357
CREATED:20190109T033426Z
LAST-MODIFIED:20190109T034251Z
UID:489-1549112400-1549126800@lewisbensmith.com
SUMMARY:Saturday\, February 2\,  2019  Book Signing  1- 5 PM Recycled Books Denton\, TX
DESCRIPTION:
URL:https://lewisbensmith.com/event/2-february-2019-book-signing-1-5-pm-recycled-books-denton-tx/
LOCATION:Recycled Books\, 200 N Locust St\, Denton\, TX\, 76201\, United States
CATEGORIES:Appearance
END:VEVENT
BEGIN:VEVENT
DTSTART;TZID=UTC:20190119T130000
DTEND;TZID=UTC:20190119T170000
DTSTAMP:20260421T213357
CREATED:20190109T032715Z
LAST-MODIFIED:20190109T032715Z
UID:484-1547902800-1547917200@lewisbensmith.com
SUMMARY:Saturday\, Jan. 19  Book Signing Half Price Books  N. Lamar St. Austin\, TX
DESCRIPTION:
URL:https://lewisbensmith.com/event/saturday-jan-19-book-signing-half-price-books-n-lamar-st-austin-tx/
LOCATION:Half Price Books N. Lamar Austin\, 5555 N. Lamar Blvd\, Austin\, TX\, 78751\, United States
CATEGORIES:Appearance
END:VEVENT
BEGIN:VEVENT
DTSTART;TZID=UTC:20190109T080000
DTEND;TZID=UTC:20190109T170000
DTSTAMP:20260421T213357
CREATED:20190109T033554Z
LAST-MODIFIED:20190109T034056Z
UID:491-1547020800-1547053200@lewisbensmith.com
SUMMARY:Saturday\, February 9\, 2019  Book Signing 1-5 PM   Half Price Books    McKinney\, TX
DESCRIPTION:
URL:https://lewisbensmith.com/event/9-february-2019-book-signing-1-5-pm-half-price-books-mckinney-tx/
LOCATION:Half Price Books McKinney\, TX\, 3190 S. Central Expressway\, McKinney\, TX\, 75070\, United States
CATEGORIES:Appearance
END:VEVENT
BEGIN:VEVENT
DTSTART;TZID=UTC:20181222T130000
DTEND;TZID=UTC:20181222T170000
DTSTAMP:20260421T213357
CREATED:20181217T013204Z
LAST-MODIFIED:20181217T013204Z
UID:477-1545483600-1545498000@lewisbensmith.com
SUMMARY:22 December 2018 - Book Signing: Half Price Books\, Tyler\, TX
DESCRIPTION:
URL:https://lewisbensmith.com/event/22-december-2018-book-signing-half-price-books-tyler-tx/
LOCATION:Half Price Books Tyler\, TX\, 8966 S. Broadway Ave.\, Tyler\, TX\, 75703\, United States
CATEGORIES:Appearance
END:VEVENT
BEGIN:VEVENT
DTSTART;TZID=UTC:20181123T110000
DTEND;TZID=UTC:20181123T150000
DTSTAMP:20260421T213357
CREATED:20181108T141933Z
LAST-MODIFIED:20181108T142356Z
UID:475-1542970800-1542985200@lewisbensmith.com
SUMMARY:23 November 2018 - The Wind\, The Willow Book Shop
DESCRIPTION:Author Lewis Smith will be at The Wind\, The Willow from 11 AM till 3 PM on Nov. 23\, signing copies of THE GNOSTIC LIBRARY and his other faith-based historic novels.
URL:https://lewisbensmith.com/event/23-november-2018-the-wind-the-willow-book-shop/
LOCATION:The Wind\, The Willow Bookstore\, 2610 Lee Street\, Greenville\, TX\, 75401\, United States
CATEGORIES:Appearance
END:VEVENT
BEGIN:VEVENT
DTSTART;TZID=UTC:20181110T130000
DTEND;TZID=UTC:20181110T170000
DTSTAMP:20260421T213357
CREATED:20181108T141632Z
LAST-MODIFIED:20181108T141632Z
UID:473-1541854800-1541869200@lewisbensmith.com
SUMMARY:10 November 2018 - Recycled Books\, Denton\, TX
DESCRIPTION:Author Lewis Smith will be at Recycled Books in Denton from 1 till 5 PM\, signing copies of THE GNOSTIC LIBRARY and his other faith-based historical novels.
URL:https://lewisbensmith.com/event/10-november-2018-recycled-books-denton-tx/
LOCATION:Recycled Books\, 200 N Locust St\, Denton\, TX\, 76201\, United States
CATEGORIES:Appearance
END:VEVENT
BEGIN:VEVENT
DTSTART;TZID=UTC:20181103T100000
DTEND;TZID=UTC:20181103T150000
DTSTAMP:20260421T213357
CREATED:20181023T023907Z
LAST-MODIFIED:20181023T023907Z
UID:469-1541239200-1541257200@lewisbensmith.com
SUMMARY:Saturday\, November 3\, 2018: Book Signing
DESCRIPTION:Lewis will have a table set up at the Cherokee Craft and Trade Fair in Jacksonville\, TX at the Norman Activity Center from 10 AM till 3 PM.  He will be signing purchased copies of THE GNOSTIC LIBRARY and his other faith-based historical novels.
URL:https://lewisbensmith.com/event/saturday-november-3-2018-book-signing/
LOCATION:Norman Activity Center\, 526 E. Commerce St.\, Jacksonville\, TX\, 75766\, United States
CATEGORIES:Appearance
ORGANIZER;CN="Kim Sullivan Felt":MAILTO:kimfelt94@gmail.com
END:VEVENT
BEGIN:VEVENT
DTSTART;TZID=UTC:20181027T130000
DTEND;TZID=UTC:20181027T170000
DTSTAMP:20260421T213357
CREATED:20181023T022542Z
LAST-MODIFIED:20181023T022542Z
UID:466-1540645200-1540659600@lewisbensmith.com
SUMMARY:Saturday\, October 27\, 2018 - Book Signing
DESCRIPTION:Lewis will be at Half Price Books in McKinney\, TX from 1 till 5 PM\, signing purchased copies of THE GNOSTIC LIBRARY and his other faith-based historical novels.
URL:https://lewisbensmith.com/event/saturday-october-27-2018-book-signing/
LOCATION:Half Price Books McKinney\, TX\, 3190 S. Central Expressway\, McKinney\, TX\, 75070\, United States
CATEGORIES:Appearance
END:VEVENT
END:VCALENDAR