BEGIN:VCALENDAR
VERSION:2.0
PRODID:-//Lewis Ben Smith - ECPv6.15.20//NONSGML v1.0//EN
CALSCALE:GREGORIAN
METHOD:PUBLISH
X-WR-CALNAME:Lewis Ben Smith
X-ORIGINAL-URL:https://lewisbensmith.com
X-WR-CALDESC:Events for Lewis Ben Smith
REFRESH-INTERVAL;VALUE=DURATION:PT1H
X-Robots-Tag:noindex
X-PUBLISHED-TTL:PT1H
BEGIN:VTIMEZONE
TZID:UTC
BEGIN:STANDARD
TZOFFSETFROM:+0000
TZOFFSETTO:+0000
TZNAME:UTC
DTSTART:20170101T000000
END:STANDARD
END:VTIMEZONE
BEGIN:VEVENT
DTSTART;TZID=UTC:20180708T105500
DTEND;TZID=UTC:20180708T120000
DTSTAMP:20260421T181745
CREATED:20180619T140244Z
LAST-MODIFIED:20180619T140244Z
UID:410-1531047300-1531051200@lewisbensmith.com
SUMMARY:Sunday\, July 8\, 2018
DESCRIPTION:Lewis Ben Smith will be bringing the morning service at Kavanaugh United Methodist Church in Greenville\, TX.  Service begins at 10:55 AM.
URL:https://lewisbensmith.com/event/sunday-july-8-2018/
LOCATION:Kavanaugh Methodist Church\, 2516 Park St.\, Greenville\, TX\, 75401\, United States
CATEGORIES:Guest Speaker
END:VEVENT
BEGIN:VEVENT
DTSTART;TZID=UTC:20180620T183000
DTEND;TZID=UTC:20180620T193000
DTSTAMP:20260421T181745
CREATED:20180612T160023Z
LAST-MODIFIED:20180618T171857Z
UID:364-1529519400-1529523000@lewisbensmith.com
SUMMARY:Wednesday\, June 20\, 2018
DESCRIPTION:Lewis Ben Smith will be bringing the Wednesday night service at Shady Grove Baptist Church in Greenville\, TX.
URL:https://lewisbensmith.com/event/june-20-2018/
LOCATION:Shady Grove Baptist Church\, 3507 FM 499\, Greenville\, TX\, 75401\, United States
CATEGORIES:Guest Speaker
END:VEVENT
END:VCALENDAR