BEGIN:VCALENDAR
VERSION:2.0
PRODID:-//Lewis Ben Smith - ECPv6.15.20//NONSGML v1.0//EN
CALSCALE:GREGORIAN
METHOD:PUBLISH
X-ORIGINAL-URL:https://lewisbensmith.com
X-WR-CALDESC:Events for Lewis Ben Smith
REFRESH-INTERVAL;VALUE=DURATION:PT1H
X-Robots-Tag:noindex
X-PUBLISHED-TTL:PT1H
BEGIN:VTIMEZONE
TZID:UTC
BEGIN:STANDARD
TZOFFSETFROM:+0000
TZOFFSETTO:+0000
TZNAME:UTC
DTSTART:20170101T000000
END:STANDARD
END:VTIMEZONE
BEGIN:VEVENT
DTSTART;TZID=UTC:20190127T110000
DTEND;TZID=UTC:20190127T120000
DTSTAMP:20260421T194835
CREATED:20190109T033145Z
LAST-MODIFIED:20190109T033145Z
UID:486-1548586800-1548590400@lewisbensmith.com
SUMMARY:Sunday\, Jan. 27   11 AM Service First Baptist Church Campbell\, TX
DESCRIPTION:
URL:https://lewisbensmith.com/event/sunday-jan-27-11-am-service-first-baptist-church-campbell-tx/
LOCATION:First Baptist Church Campbell TX\, 310 S. Beasley St.\, Campbell\, TX\, 75422\, United States
CATEGORIES:Guest Speaker
END:VEVENT
BEGIN:VEVENT
DTSTART;TZID=UTC:20190119T130000
DTEND;TZID=UTC:20190119T170000
DTSTAMP:20260421T194835
CREATED:20190109T032715Z
LAST-MODIFIED:20190109T032715Z
UID:484-1547902800-1547917200@lewisbensmith.com
SUMMARY:Saturday\, Jan. 19  Book Signing Half Price Books  N. Lamar St. Austin\, TX
DESCRIPTION:
URL:https://lewisbensmith.com/event/saturday-jan-19-book-signing-half-price-books-n-lamar-st-austin-tx/
LOCATION:Half Price Books N. Lamar Austin\, 5555 N. Lamar Blvd\, Austin\, TX\, 78751\, United States
CATEGORIES:Appearance
END:VEVENT
BEGIN:VEVENT
DTSTART;TZID=UTC:20190109T080000
DTEND;TZID=UTC:20190109T170000
DTSTAMP:20260421T194835
CREATED:20190109T033554Z
LAST-MODIFIED:20190109T034056Z
UID:491-1547020800-1547053200@lewisbensmith.com
SUMMARY:Saturday\, February 9\, 2019  Book Signing 1-5 PM   Half Price Books    McKinney\, TX
DESCRIPTION:
URL:https://lewisbensmith.com/event/9-february-2019-book-signing-1-5-pm-half-price-books-mckinney-tx/
LOCATION:Half Price Books McKinney\, TX\, 3190 S. Central Expressway\, McKinney\, TX\, 75070\, United States
CATEGORIES:Appearance
END:VEVENT
BEGIN:VEVENT
DTSTART;TZID=UTC:20181222T130000
DTEND;TZID=UTC:20181222T170000
DTSTAMP:20260421T194835
CREATED:20181217T013204Z
LAST-MODIFIED:20181217T013204Z
UID:477-1545483600-1545498000@lewisbensmith.com
SUMMARY:22 December 2018 - Book Signing: Half Price Books\, Tyler\, TX
DESCRIPTION:
URL:https://lewisbensmith.com/event/22-december-2018-book-signing-half-price-books-tyler-tx/
LOCATION:Half Price Books Tyler\, TX\, 8966 S. Broadway Ave.\, Tyler\, TX\, 75703\, United States
CATEGORIES:Appearance
END:VEVENT
BEGIN:VEVENT
DTSTART;TZID=UTC:20181123T110000
DTEND;TZID=UTC:20181123T150000
DTSTAMP:20260421T194835
CREATED:20181108T141933Z
LAST-MODIFIED:20181108T142356Z
UID:475-1542970800-1542985200@lewisbensmith.com
SUMMARY:23 November 2018 - The Wind\, The Willow Book Shop
DESCRIPTION:Author Lewis Smith will be at The Wind\, The Willow from 11 AM till 3 PM on Nov. 23\, signing copies of THE GNOSTIC LIBRARY and his other faith-based historic novels.
URL:https://lewisbensmith.com/event/23-november-2018-the-wind-the-willow-book-shop/
LOCATION:The Wind\, The Willow Bookstore\, 2610 Lee Street\, Greenville\, TX\, 75401\, United States
CATEGORIES:Appearance
END:VEVENT
BEGIN:VEVENT
DTSTART;TZID=UTC:20181110T130000
DTEND;TZID=UTC:20181110T170000
DTSTAMP:20260421T194835
CREATED:20181108T141632Z
LAST-MODIFIED:20181108T141632Z
UID:473-1541854800-1541869200@lewisbensmith.com
SUMMARY:10 November 2018 - Recycled Books\, Denton\, TX
DESCRIPTION:Author Lewis Smith will be at Recycled Books in Denton from 1 till 5 PM\, signing copies of THE GNOSTIC LIBRARY and his other faith-based historical novels.
URL:https://lewisbensmith.com/event/10-november-2018-recycled-books-denton-tx/
LOCATION:Recycled Books\, 200 N Locust St\, Denton\, TX\, 76201\, United States
CATEGORIES:Appearance
END:VEVENT
BEGIN:VEVENT
DTSTART;TZID=UTC:20181103T100000
DTEND;TZID=UTC:20181103T150000
DTSTAMP:20260421T194835
CREATED:20181023T023907Z
LAST-MODIFIED:20181023T023907Z
UID:469-1541239200-1541257200@lewisbensmith.com
SUMMARY:Saturday\, November 3\, 2018: Book Signing
DESCRIPTION:Lewis will have a table set up at the Cherokee Craft and Trade Fair in Jacksonville\, TX at the Norman Activity Center from 10 AM till 3 PM.  He will be signing purchased copies of THE GNOSTIC LIBRARY and his other faith-based historical novels.
URL:https://lewisbensmith.com/event/saturday-november-3-2018-book-signing/
LOCATION:Norman Activity Center\, 526 E. Commerce St.\, Jacksonville\, TX\, 75766\, United States
CATEGORIES:Appearance
ORGANIZER;CN="Kim Sullivan Felt":MAILTO:kimfelt94@gmail.com
END:VEVENT
BEGIN:VEVENT
DTSTART;TZID=UTC:20181027T130000
DTEND;TZID=UTC:20181027T170000
DTSTAMP:20260421T194835
CREATED:20181023T022542Z
LAST-MODIFIED:20181023T022542Z
UID:466-1540645200-1540659600@lewisbensmith.com
SUMMARY:Saturday\, October 27\, 2018 - Book Signing
DESCRIPTION:Lewis will be at Half Price Books in McKinney\, TX from 1 till 5 PM\, signing purchased copies of THE GNOSTIC LIBRARY and his other faith-based historical novels.
URL:https://lewisbensmith.com/event/saturday-october-27-2018-book-signing/
LOCATION:Half Price Books McKinney\, TX\, 3190 S. Central Expressway\, McKinney\, TX\, 75070\, United States
CATEGORIES:Appearance
END:VEVENT
BEGIN:VEVENT
DTSTART;TZID=UTC:20181013T100000
DTEND;TZID=UTC:20181013T140000
DTSTAMP:20260421T194835
CREATED:20180911T022528Z
LAST-MODIFIED:20180911T022528Z
UID:464-1539424800-1539439200@lewisbensmith.com
SUMMARY:13 Oct. 2018  Book Signing
DESCRIPTION:Lewis will be signing purchased copies of his faith-based historic novel\, THE GNOSTIC LIBRARY\, at The Wind\, The Willow Book Shop in Greenville\, TX from 10 AM till 2 PM.
URL:https://lewisbensmith.com/event/13-oct-2018-book-signing/
LOCATION:The Wind\, The Willow Bookstore\, 2610 Lee Street\, Greenville\, TX\, 75401\, United States
CATEGORIES:Appearance
END:VEVENT
BEGIN:VEVENT
DTSTART;TZID=UTC:20180928T170000
DTEND;TZID=UTC:20180930T170000
DTSTAMP:20260421T194835
CREATED:20180911T022249Z
LAST-MODIFIED:20180911T022647Z
UID:461-1538154000-1538326800@lewisbensmith.com
SUMMARY:28 Sep. Grace Community Church Men's Retreat
DESCRIPTION:On the weekend of September 28\, Lewis will be a featured speaker at the annual Men’s Retreat sponsored by Grace Community Church of Greenville. He will also be signing purchased copies of his faith-based historic novel\, THE GNOSTIC LIBRARY.
URL:https://lewisbensmith.com/event/28-sep-grace-community-church-mens-retreat/
LOCATION:TX
CATEGORIES:Guest Speaker
END:VEVENT
BEGIN:VEVENT
DTSTART;TZID=UTC:20180922T130000
DTEND;TZID=UTC:20180922T170000
DTSTAMP:20260421T194835
CREATED:20180911T021521Z
LAST-MODIFIED:20180911T022745Z
UID:459-1537621200-1537635600@lewisbensmith.com
SUMMARY:22 Sep. 2018  Book Signing
DESCRIPTION:Lewis will be signing purchased copies of his faith-based historic novel\, THE GNOSTIC LIBRARY\, at the Half Price Books store in Garland\, TX at Firewheel Mall from 1 PM to 5 PM.
URL:https://lewisbensmith.com/event/22-sep-2018-book-signing/
LOCATION:Half Price Books Garland\, TX Firewheel Mall\, Firewheel Mall\, Garland\, TX\, 75040\, United States
CATEGORIES:Appearance
END:VEVENT
BEGIN:VEVENT
DTSTART;TZID=UTC:20180915T090000
DTEND;TZID=UTC:20180915T150000
DTSTAMP:20260421T194835
CREATED:20180911T021147Z
LAST-MODIFIED:20180911T021147Z
UID:455-1537002000-1537023600@lewisbensmith.com
SUMMARY:Sep. 15\, 2018 Marshall\, TX Indian Artifact Shot
DESCRIPTION:Lewis will be displaying some of his artifact collection at this show from 8 AM till 3 PM\, and will be signing purchased copies of his new faith-based historical novel THE GNOSTIC LIBRARY.
URL:https://lewisbensmith.com/event/sep-15-2018-marshall-tx-indian-artifact-shot/
LOCATION:Marshall\, TX Civic Center\, 2501 E. End Blvd South\, Marshall\, TX\, 75672\, United States
CATEGORIES:Appearance
END:VEVENT
BEGIN:VEVENT
DTSTART;TZID=UTC:20180818T130000
DTEND;TZID=UTC:20180818T170000
DTSTAMP:20260421T194835
CREATED:20180713T234919Z
LAST-MODIFIED:20180713T234919Z
UID:428-1534597200-1534611600@lewisbensmith.com
SUMMARY:Saturday\, August 18 2018
DESCRIPTION:Lewis Ben Smith will be at Recycled Books in Denton\, TX signing purchased copies of his faith-based historical novel\, THE GNOSTIC LIBRARY.
URL:https://lewisbensmith.com/event/saturday-august-18-2018/
LOCATION:Recycled Books\, 200 N Locust St\, Denton\, TX\, 76201\, United States
CATEGORIES:Appearance
END:VEVENT
BEGIN:VEVENT
DTSTART;TZID=UTC:20180811T080000
DTEND;TZID=UTC:20180811T170000
DTSTAMP:20260421T194835
CREATED:20180713T234640Z
LAST-MODIFIED:20180713T234641Z
UID:425-1533974400-1534006800@lewisbensmith.com
SUMMARY:Saturday\, August 11 2018
DESCRIPTION:Lewis Ben Smith will be at Half Price Books on North Lamar St. in Austin\, TX signing copies of his faith-based historical novel THE GNOSTIC LIBRARY.
URL:https://lewisbensmith.com/event/saturday-august-11-2018/
LOCATION:Half Price Books N. Lamar Austin\, 5555 N. Lamar Blvd\, Austin\, TX\, 78751\, United States
CATEGORIES:Appearance
END:VEVENT
BEGIN:VEVENT
DTSTART;TZID=UTC:20180804T130000
DTEND;TZID=UTC:20180804T170000
DTSTAMP:20260421T194835
CREATED:20180713T233939Z
LAST-MODIFIED:20180713T233939Z
UID:422-1533387600-1533402000@lewisbensmith.com
SUMMARY:Saturday\, August 4 2018
DESCRIPTION:Lewis Ben Smith will at Half Price Books on S. Hulen Street in Ft. Worth\, Texas signing purchased copies of his faith-based historical novel\, THE GNOSTIC LIBRARY\, from 1 till 5 PM.
URL:https://lewisbensmith.com/event/saturday-august-4-2018/
LOCATION:Half Price Books Ft Worth TX\, 5417 S. Hulen St.\, Ft. Worth\, TX\, 76132\, United States
CATEGORIES:Appearance
END:VEVENT
BEGIN:VEVENT
DTSTART;TZID=UTC:20180803T110000
DTEND;TZID=UTC:20180803T150000
DTSTAMP:20260421T194835
CREATED:20180713T233516Z
LAST-MODIFIED:20180713T233516Z
UID:420-1533294000-1533308400@lewisbensmith.com
SUMMARY:Friday\, August 3 2018
DESCRIPTION:Lewis Ben Smith will be at The Wind\, The Willow Bookstore in Greenville\, TX signing purchased copies of his faith based historical novel THE GNOSTIC LIBRARY from 11 AM to 3 PM.
URL:https://lewisbensmith.com/event/friday-august-3-2018/
LOCATION:The Wind\, The Willow Bookstore\, 2610 Lee Street\, Greenville\, TX\, 75401\, United States
CATEGORIES:Appearance
END:VEVENT
BEGIN:VEVENT
DTSTART;TZID=UTC:20180728T130000
DTEND;TZID=UTC:20180728T160000
DTSTAMP:20260421T194835
CREATED:20180619T134639Z
LAST-MODIFIED:20180619T134734Z
UID:406-1532782800-1532793600@lewisbensmith.com
SUMMARY:Saturday\, July 28\, 2018
DESCRIPTION:Lewis Ben Smith will be at Half Price Books in North Oaks Mall in Houston\, TX signing purchased copies of his faith based historical novel\, THE GNOSTIC LIBRARY.
URL:https://lewisbensmith.com/event/saturday-july-28-2018/
LOCATION:Half Price Books\, North Oak Mall\, 4685 Cypress Creek Parkway\, Houston\, TX\, 77069\, United States
CATEGORIES:Appearance
END:VEVENT
BEGIN:VEVENT
DTSTART;TZID=UTC:20180721T130000
DTEND;TZID=UTC:20180721T170000
DTSTAMP:20260421T194835
CREATED:20180619T133606Z
LAST-MODIFIED:20180619T135046Z
UID:401-1532178000-1532192400@lewisbensmith.com
SUMMARY:Saturday July 21\, 2018
DESCRIPTION:Lewis Ben Smith will be at Half Price Books in Watauga\, TX signing purchased copies of his faith-based historic novel THE GNOSTIC LIBRARY.
URL:https://lewisbensmith.com/event/july-21-2018/
LOCATION:Half Price Books Watauga TX\, 7620 Denton Hwy\, Watauga\, TX\, 76148\, United States
CATEGORIES:Appearance
END:VEVENT
BEGIN:VEVENT
DTSTART;TZID=UTC:20180718T190000
DTEND;TZID=UTC:20180718T200000
DTSTAMP:20260421T194835
CREATED:20180713T233155Z
LAST-MODIFIED:20180713T233155Z
UID:417-1531940400-1531944000@lewisbensmith.com
SUMMARY:Wednesday\, July 18 2018
DESCRIPTION:Lewis Ben Smith will be the guest speaker for the evening service at Pecan Grove Church in Greenville\, TX.  After the service he will be signing purchased copies of THE GNOSTIC LIBRARY and his other novels.
URL:https://lewisbensmith.com/event/wednesday-july-18-2018/
LOCATION:Pecan Grove Church\, 1306 FM 1570\, Greenville\, TX\, 75403\, United States
CATEGORIES:Guest Speaker
END:VEVENT
BEGIN:VEVENT
DTSTART;TZID=UTC:20180714T090000
DTEND;TZID=UTC:20180714T143000
DTSTAMP:20260421T194835
CREATED:20180612T162131Z
LAST-MODIFIED:20180612T194621Z
UID:374-1531558800-1531578600@lewisbensmith.com
SUMMARY:Saturday\, July 14\, 2018
DESCRIPTION:Lewis Ben Smith will be at the Midlothian\, TX Indian Artifact Show from 9 till 3 pm\, displaying artifacts from his personal collection and signing copies of his faith-based historic novel\, “The Gnostic Library.”
URL:https://lewisbensmith.com/event/july-14-2018/
LOCATION:Midlothian Civic Center\, 224 S. 11th Street\, Midlothian\, TX\, 76065\, United States
CATEGORIES:Appearance
ORGANIZER;CN="Harold Hughes":MAILTO:haroldhughes@skybeammail.com
END:VEVENT
BEGIN:VEVENT
DTSTART;TZID=UTC:20180708T105500
DTEND;TZID=UTC:20180708T120000
DTSTAMP:20260421T194835
CREATED:20180619T140244Z
LAST-MODIFIED:20180619T140244Z
UID:410-1531047300-1531051200@lewisbensmith.com
SUMMARY:Sunday\, July 8\, 2018
DESCRIPTION:Lewis Ben Smith will be bringing the morning service at Kavanaugh United Methodist Church in Greenville\, TX.  Service begins at 10:55 AM.
URL:https://lewisbensmith.com/event/sunday-july-8-2018/
LOCATION:Kavanaugh Methodist Church\, 2516 Park St.\, Greenville\, TX\, 75401\, United States
CATEGORIES:Guest Speaker
END:VEVENT
BEGIN:VEVENT
DTSTART;TZID=UTC:20180707T100000
DTEND;TZID=UTC:20180707T140000
DTSTAMP:20260421T194835
CREATED:20180612T194000Z
LAST-MODIFIED:20180618T172045Z
UID:368-1530957600-1530972000@lewisbensmith.com
SUMMARY:Saturday\, July 7\, 2018
DESCRIPTION:Lewis Ben Smith will be at The Wind\, The Willow bookstore in Greenville\,  TX from 10 am to 2 pm signing copies of his faith-based historic novel “The Gnostic Library.”
URL:https://lewisbensmith.com/event/july-7-2018/
LOCATION:The Wind\, The Willow Bookstore\, 2610 Lee Street\, Greenville\, TX\, 75401\, United States
CATEGORIES:Appearance
END:VEVENT
BEGIN:VEVENT
DTSTART;TZID=UTC:20180623T130000
DTEND;TZID=UTC:20180623T150000
DTSTAMP:20260421T194835
CREATED:20180612T154349Z
LAST-MODIFIED:20180618T172159Z
UID:356-1529758800-1529766000@lewisbensmith.com
SUMMARY:Saturday\, June 23\, 2018
DESCRIPTION:Lewis Ben Smith will be at Half Price Books in Garland\, TX at Firewheel Mall from 1 till 3 PM\, signing purchased copies of his faith based historic novel “The Gnostic Library.”
URL:https://lewisbensmith.com/event/june-23-2018/
LOCATION:Half Price Books Garland\, TX Firewheel Mall\, Firewheel Mall\, Garland\, TX\, 75040\, United States
CATEGORIES:Appearance
END:VEVENT
BEGIN:VEVENT
DTSTART;TZID=UTC:20180620T183000
DTEND;TZID=UTC:20180620T193000
DTSTAMP:20260421T194835
CREATED:20180612T160023Z
LAST-MODIFIED:20180618T171857Z
UID:364-1529519400-1529523000@lewisbensmith.com
SUMMARY:Wednesday\, June 20\, 2018
DESCRIPTION:Lewis Ben Smith will be bringing the Wednesday night service at Shady Grove Baptist Church in Greenville\, TX.
URL:https://lewisbensmith.com/event/june-20-2018/
LOCATION:Shady Grove Baptist Church\, 3507 FM 499\, Greenville\, TX\, 75401\, United States
CATEGORIES:Guest Speaker
END:VEVENT
BEGIN:VEVENT
DTSTART;TZID=UTC:20180609T180000
DTEND;TZID=UTC:20180609T230000
DTSTAMP:20260421T194835
CREATED:20180607T132757Z
LAST-MODIFIED:20180612T154905Z
UID:326-1528567200-1528585200@lewisbensmith.com
SUMMARY:Saturday\, June 9\, 2018
DESCRIPTION:Lewis Ben Smith visits Recycled Books in Denton and will autograph purchased copies of his newest faith-based historic novel\, “The Gnostic Library.”
URL:https://lewisbensmith.com/event/june-9-2018/
LOCATION:Recycled Books\, 200 N Locust St\, Denton\, TX\, 76201\, United States
CATEGORIES:Appearance
END:VEVENT
END:VCALENDAR